250.00000000000000
0.00000000000000
0.00000000000000
-250.00000000000000
-212161.75152285188000
5852124.25081105530000
