250.00000000000000
0.00000000000000
0.00000000000000
-250.00000000000000
-211993.48257772345000
5852031.40862542950000
