250.00000000000000
0.00000000000000
0.00000000000000
-250.00000000000000
-212133.13225898135000
5852090.38930487350000
