250.00000000000000
0.00000000000000
0.00000000000000
-250.00000000000000
-224625.00000000000000
5863625.00000000000000
